BEGIN:VCALENDAR
VERSION:2.0
PRODID:-//A Rocha Česká Republika - ECPv6.15.20//NONSGML v1.0//EN
CALSCALE:GREGORIAN
METHOD:PUBLISH
X-WR-CALNAME:A Rocha Česká Republika
X-ORIGINAL-URL:https://arocha.cz
X-WR-CALDESC:Akce na A Rocha Česká Republika
REFRESH-INTERVAL;VALUE=DURATION:PT1H
X-Robots-Tag:noindex
X-PUBLISHED-TTL:PT1H
BEGIN:VTIMEZONE
TZID:Europe/Prague
BEGIN:DAYLIGHT
TZOFFSETFROM:+0100
TZOFFSETTO:+0200
TZNAME:CEST
DTSTART:20250330T010000
END:DAYLIGHT
BEGIN:STANDARD
TZOFFSETFROM:+0200
TZOFFSETTO:+0100
TZNAME:CET
DTSTART:20251026T010000
END:STANDARD
BEGIN:DAYLIGHT
TZOFFSETFROM:+0100
TZOFFSETTO:+0200
TZNAME:CEST
DTSTART:20260329T010000
END:DAYLIGHT
BEGIN:STANDARD
TZOFFSETFROM:+0200
TZOFFSETTO:+0100
TZNAME:CET
DTSTART:20261025T010000
END:STANDARD
BEGIN:DAYLIGHT
TZOFFSETFROM:+0100
TZOFFSETTO:+0200
TZNAME:CEST
DTSTART:20270328T010000
END:DAYLIGHT
BEGIN:STANDARD
TZOFFSETFROM:+0200
TZOFFSETTO:+0100
TZNAME:CET
DTSTART:20271031T010000
END:STANDARD
END:VTIMEZONE
BEGIN:VEVENT
DTSTART;TZID=Europe/Prague:20260402T130000
DTEND;TZID=Europe/Prague:20260402T170000
DTSTAMP:20260421T104051
CREATED:20260219T104514Z
LAST-MODIFIED:20260219T104514Z
UID:3559-1775134800-1775149200@arocha.cz
SUMMARY:Tradice naživo
DESCRIPTION:Zveme Vás a hlavně Vaše děti na odpoledne naplněné tvořením i zajímavým povídáním ať už o přírodě\, tradicích nebo historii. \nKdy: na zelený čtvrtek 2. 4. 2026 od 13:00 do 17:00\nKde: areál rodného domku F. L. Věka a Rýdlovy vily v Dobrušce \nPřijďte si uplést pomlázku\, vyrobit si proutěné hnízdo\, namalovat kraslice či nazdobit osení. K vidění bude také výstava Slunce za vraty a své umění bude předvádět také kovář Ondřej Požár. \nDrobné občerstvení je zajištěno. \nVstupné je dobrovolné. \nVíce informací zde. \nAkci pořádá Městské muzeum v Dobrušce ve společnosti s A Rocha. \n 
URL:https://arocha.cz/event/tradice-nazivo/
CATEGORIES:Události
END:VEVENT
END:VCALENDAR